BEGIN:VCALENDAR
VERSION:2.0
PRODID:-//Squarespace Inc/Squarespace 6//v6//EN
BEGIN:VEVENT
UID:552827f0e4b0cc22a861ead4@squarespace.com
DTSTAMP:20150501T183834Z
DTSTART:20150511T120000Z
DTEND:20150515T210000Z
SUMMARY:RIA - Basic Analysis Training
END:VEVENT
END:VCALENDAR
