BEGIN:VCALENDAR
VERSION:2.0
PRODID:-//Squarespace Inc/Squarespace 6//v6//EN
BEGIN:VEVENT
UID:54f9e60fe4b0996d3a846a65@squarespace.com
DTSTAMP:20150417T163557Z
DTSTART:20150420T130000Z
DTEND:20150423T210000Z
SUMMARY:DHS/FEMA Region 2 - Exercise Design (Four Day Course)
GEO:40.198282;-74.645879
LOCATION:AAA Building\, 700 Horizon Dr.\, Hamilton Township\, NJ\, 08691
END:VEVENT
END:VCALENDAR
