BEGIN:VCALENDAR
VERSION:2.0
PRODID:-//Squarespace Inc/Squarespace 6//v6//EN
BEGIN:VEVENT
UID:552826f4e4b026043557797a@squarespace.com
DTSTAMP:20150417T181037Z
DTSTART:20150511T120000Z
DTEND:20150511T200000Z
SUMMARY:RIA - Intelligence-Led Decision Making
GEO:40.499939;-74.36932
LOCATION:Middlesex County Police Training Center\, 11 W Patrol Rd\, Edison\
 , NJ\, 08837
END:VEVENT
END:VCALENDAR
