BEGIN:VCALENDAR
VERSION:2.0
PRODID:-//Squarespace Inc/Squarespace 6//v6//EN
BEGIN:VEVENT
UID:56216580e4b0007a0002070d@squarespace.com
DTSTAMP:20151027T144159Z
DTSTART:20151027T180000Z
DTEND:20151027T190000Z
SUMMARY:#NJOHSPwebinar | Radicalization: Trends\, Facts and Myths
END:VEVENT
END:VCALENDAR
